View In:
ArcGIS JavaScript
ArcGIS Online Map Viewer
ArcGIS Earth
ArcGIS Pro
Service Description:
Map Name: Fond_de_carte_planRF
Legend
All Layers and Tables
Layers:
Description:
Service Item Id: d025f2f873d749738e56137fc0e79a4e
Copyright Text:
Spatial Reference:
2056
(2056)
LatestVCSWkid(0)
Single Fused Map Cache: true
Tile Info:
- Height: 256.0
- Width: 256.0
- DPI: 96.0
-
Levels of Detail: 32
-
Level ID: 0
[ Start Tile, End Tile ]
- Resolution: 4000.0000000000005
- Scale: 1.5118110236220473E7
-
Level ID: 2
[ Start Tile, End Tile ]
- Resolution: 3500.0000000000005
- Scale: 1.3228346456692915E7
-
Level ID: 5
[ Start Tile, End Tile ]
- Resolution: 2750.0000000000005
- Scale: 1.0393700787401576E7
-
Level ID: 7
[ Start Tile, End Tile ]
- Resolution: 2250.0000000000005
- Scale: 8503937.007874016
-
Level ID: 8
[ Start Tile, End Tile ]
- Resolution: 2000.0000000000002
- Scale: 7559055.118110237
-
Level ID: 9
[ Start Tile, End Tile ]
- Resolution: 1750.0000000000002
- Scale: 6614173.228346458
-
Level ID: 12
[ Start Tile, End Tile ]
- Resolution: 1000.0000000000001
- Scale: 3779527.5590551184
-
Level ID: 14
[ Start Tile, End Tile ]
- Resolution: 650.0000000000001
- Scale: 2456692.913385827
-
Level ID: 15
[ Start Tile, End Tile ]
- Resolution: 500.00000000000006
- Scale: 1889763.7795275592
-
Level ID: 16
[ Start Tile, End Tile ]
- Resolution: 250.00000000000003
- Scale: 944881.8897637796
-
Level ID: 19
[ Start Tile, End Tile ]
- Resolution: 20.000000000000004
- Scale: 75590.55118110236
-
Level ID: 20
[ Start Tile, End Tile ]
- Resolution: 10.000000000000002
- Scale: 37795.27559055118
-
Level ID: 21
[ Start Tile, End Tile ]
- Resolution: 5.000000000000001
- Scale: 18897.63779527559
-
Level ID: 22
[ Start Tile, End Tile ]
- Resolution: 2.5000000000000004
- Scale: 9448.818897637795
-
Level ID: 24
[ Start Tile, End Tile ]
- Resolution: 1.5000000000000002
- Scale: 5669.291338582678
- Format: PNG
- Compression Quality: 0.0
- Origin: X: 2420000.0
Y: 1350000.0
- Spatial Reference: 2056
(2056)
LatestVCSWkid(0)
Storage Info:
- Storage Format: esriMapCacheStorageModeCompactV2
- Packet Size: 128
Initial Extent:
XMin: 2559783.2934411634
YMin: 1170908.0693135776
XMax: 2560027.5759068327
YMax: 1171096.5941350718
Spatial Reference: 2056
(2056)
LatestVCSWkid(0)
Full Extent:
XMin: 2546837.0210000016
YMin: 1143055.982999999
XMax: 2595530.5599999987
YMax: 1206219.7179999985
Spatial Reference: 2056
(2056)
LatestVCSWkid(0)
Units: esriMeters
Supported Image Format Types: PNG32,PNG24,PNG,JPG,DIB,TIFF,EMF,PS,PDF,GIF,SVG,SVGZ,BMP
Document Info:
Title: Fond_de_carte_planRF
Author:
Comments:
Subject:
Category:
Keywords:
AntialiasingMode: None
TextAntialiasingMode: Force
Supports Dynamic Layers: false
MaxRecordCount: 1000
MaxSelectionCount: 0
MaxImageHeight: 4096
MaxImageWidth: 4096
Supported Query Formats: JSON, geoJSON, PBF
Supports Query Data Elements: true
Min Scale: 3779
Max Scale: 47
Supports Datum Transformation: true
Child Resources:
Info
Supported Operations:
QueryLegends
EstimateExportTilesSize
ExportTiles
Return Updates