{
 "currentVersion": 11.5,
 "serviceDescription": "OpenData_Raster/Modele_numerique_de_hauteur_MNH_2021",
 "serviceItemId": "0ca299d1021645529a92fdce4619d6b4",
 "name": "OpenData_Raster/Modele_numerique_de_hauteur_MNH_2021",
 "description": "",
 "extent": {
  "xmin": 2546000,
  "ymin": 1141000,
  "xmax": 2596000,
  "ymax": 1208000,
  "spatialReference": {
   "wkid": 2056,
   "latestWkid": 2056
  }
 },
 "initialExtent": {
  "xmin": 2546000,
  "ymin": 1141000,
  "xmax": 2596000,
  "ymax": 1208000,
  "spatialReference": {
   "wkid": 2056,
   "latestWkid": 2056
  }
 },
 "fullExtent": {
  "xmin": 2546000,
  "ymin": 1141000,
  "xmax": 2596000,
  "ymax": 1208000,
  "spatialReference": {
   "wkid": 2056,
   "latestWkid": 2056
  }
 },
 "sortableFields": "",
 "bandCount": 1,
 "pixelType": "F32",
 "minValues": [
  -111.80383300781
 ],
 "maxValues": [
  309.20635986328
 ],
 "meanValues": [
  4.6998661986249
 ],
 "stdvValues": [
  9.2453355411606
 ],
 "serviceProperties": "Center<\/MosaicMethod>First<\/MosaicOperator>true<\/SortAscending><\/LockImageID><\/TileOrderField>0<\/TileOrderBase>0,000000<\/AvgImageSpacingX>0,000000<\/AvgImageSpacingY>0.0<\/ViewPointX>0.0<\/ViewPointY>0.0<\/ViewPointDefShiftX>0.0<\/ViewPointDefShiftY>None<\/CompressionMethod>75<\/CompressionQuality>0,010000<\/CompressionTolerance>Bilinear<\/SamplingMethod><\/ImageServiceProperties><\/ImageServer>",
 "allowedFields": "",
 "hasMultidimensions": false,
 "pixelSizeX": 0.5,
 "pixelSizeY": 0.5,
 "meanPixelSize": 0.5,
 "datasetFormat": "TIFF",
 "uncompressedSize": 53600000000,
 "blockWidth": 512,
 "blockHeight": 512,
 "compressionType": "LZW",
 "bandNames": [
  "Band_1"
 ],
 "allowCopy": true,
 "allowAnalysis": true,
 "itemAccess": false,
 "inspectionCapabilities": "",
 "noDataValue": -9999,
 "noDataValues": [
  -9999
 ],
 "minPixelSize": 0,
 "maxPixelSize": 0,
 "copyrightText": "",
 "serviceDataType": "esriImageServiceDataTypeGeneric",
 "serviceSourceType": "esriImageServiceSourceTypeDataset",
 "objectIdField": "",
 "fields": [],
 "capabilities": "Image,Metadata,Mensuration",
 "defaultMosaicMethod": "Center",
 "allowedMosaicMethods": "",
 "sortField": "",
 "sortValue": null,
 "sortAscending": true,
 "mosaicOperator": "First",
 "maxDownloadSizeLimit": 2097196,
 "defaultCompressionQuality": 75,
 "defaultResamplingMethod": "Bilinear",
 "maxImageHeight": 4100,
 "maxImageWidth": 15000,
 "allowRasterFunction": true,
 "rasterFunctionInfos": [
  {
   "name": "None",
   "description": "",
   "help": ""
  }
 ],
 "rasterTypeInfos": [
  {
   "name": "Raster Dataset",
   "description": "Supports all ArcGIS Raster Datasets",
   "help": ""
  }
 ],
 "mensurationCapabilities": "Basic",
 "hasHistograms": true,
 "hasColormap": false,
 "hasRasterAttributeTable": false,
 "minScale": 0,
 "maxScale": 0,
 "exportTilesAllowed": false,
 "supportsStatistics": false,
 "supportsAdvancedQueries": false,
 "editFieldsInfo": null,
 "ownershipBasedAccessControlForRasters": null,
 "allowComputeTiePoints": false,
 "useStandardizedQueries": true,
 "advancedQueryCapabilities": {
  "useStandardizedQueries": true,
  "supportsStatistics": false,
  "supportsOrderBy": false,
  "supportsDistinct": false,
  "supportsPagination": false
 },
 "spatialReference": {
  "wkid": 2056,
  "latestWkid": 2056
 }
}
