<?xml version="1.0" encoding="UTF-8" standalone="no"?>
<metadata xml:lang="fr">
<Esri>
<CreaDate>20200707</CreaDate>
<CreaTime>07384800</CreaTime>
<ArcGISFormat>1.0</ArcGISFormat>
<SyncOnce>FALSE</SyncOnce>
<DataProperties>
<itemProps>
<itemName Sync="TRUE">swissSURFACE3D_2019.tif</itemName>
<itemLocation>
<linkage Sync="TRUE">file://\\ad.net.fr.ch\dfs\dfin\scg-ccsit-arcview\GEODONNEES\CONFEDERATION\SWISSTOPO\MODELES_D_ALTITUDES\swissSURFACE3D\2018-2019\Cartes_compilees\swissSURFACE3D_2019.tif</linkage>
<protocol Sync="TRUE">Local Area Network</protocol>
</itemLocation>
<imsContentType Sync="TRUE">002</imsContentType>
<nativeExtBox>
<westBL Sync="TRUE">2546000.000000</westBL>
<eastBL Sync="TRUE">2596000.000000</eastBL>
<southBL Sync="TRUE">1141000.000000</southBL>
<northBL Sync="TRUE">1208000.000000</northBL>
<exTypeCode Sync="TRUE">1</exTypeCode>
</nativeExtBox>
</itemProps>
<RasterProperties>
<General>
<PixelDepth Sync="TRUE">32</PixelDepth>
<HasColormap Sync="TRUE">FALSE</HasColormap>
<CompressionType Sync="TRUE">LZW</CompressionType>
<NumBands Sync="TRUE">1</NumBands>
<Format Sync="TRUE">TIFF</Format>
<HasPyramids Sync="TRUE">FALSE</HasPyramids>
<SourceType Sync="TRUE">continuous</SourceType>
<PixelType Sync="TRUE">floating point</PixelType>
<NoDataValue Sync="TRUE">-9999</NoDataValue>
</General>
</RasterProperties>
<lineage>
<Process Date="20200707" Time="075742" ToolSource="c:\program files\arcgis\pro\Resources\ArcToolbox\toolboxes\Data Management Tools.tbx\BuildPyramids">BuildPyramids V:\GEODONNEES\CONFEDERATION\SWISSTOPO\MODELES_D_ALTITUDES\swissSURFACE3D\2018-2019\Cartes_compilees\swissSURFACE3D_2019.tif -1 SKIP_FIRST "La plus proche" LZ77 75 OVERWRITE</Process>
<Process Date="20200707" Time="081408" ToolSource="c:\program files\arcgis\pro\Resources\ArcToolbox\toolboxes\Data Management Tools.tbx\CalculateStatistics">CalculateStatistics V:\GEODONNEES\CONFEDERATION\SWISSTOPO\MODELES_D_ALTITUDES\swissSURFACE3D\2018-2019\Cartes_compilees\swissSURFACE3D_2019.tif 1 1 # OVERWRITE "Jeu d'entités"</Process>
</lineage>
</DataProperties>
<SyncDate>20200707</SyncDate>
<SyncTime>07384800</SyncTime>
<ModDate>20200707</ModDate>
<ModTime>07384800</ModTime>
</Esri>
<dataIdInfo>
<envirDesc Sync="TRUE">Microsoft Windows 10 Version 10.0 (Build 18363) ; Esri ArcGIS 12.5.1.22081</envirDesc>
<dataLang>
<languageCode Sync="TRUE" value="fra"/>
<countryCode Sync="TRUE" value="CHE"/>
</dataLang>
<idCitation>
<resTitle Sync="TRUE">swissSURFACE3D_2019.tif</resTitle>
<presForm>
<PresFormCd Sync="TRUE" value="005"/>
</presForm>
</idCitation>
<spatRpType>
<SpatRepTypCd Sync="TRUE" value="002"/>
</spatRpType>
<idAbs>swissSURFACE3D_2018_2019_Raster.tif</idAbs>
<searchKeys>
<keyword>altimetrie</keyword>
<keyword>Raster</keyword>
</searchKeys>
<idPurp>swissSURFACE3D_2018_2019_Raster.tif</idPurp>
<idCredit/>
<resConst>
<Consts>
<useLimit/>
</Consts>
</resConst>
</dataIdInfo>
<mdLang>
<languageCode Sync="TRUE" value="fra"/>
<countryCode Sync="TRUE" value="CHE"/>
</mdLang>
<mdChar>
<CharSetCd Sync="TRUE" value="004"/>
</mdChar>
<distInfo>
<distFormat>
<formatName Sync="TRUE">Jeu de données Raster</formatName>
</distFormat>
</distInfo>
<mdHrLv>
<ScopeCd Sync="TRUE" value="005"/>
</mdHrLv>
<mdHrLvName Sync="TRUE">dataset</mdHrLvName>
<spatRepInfo>
<Georect>
<cellGeo>
<CellGeoCd Sync="TRUE" value="002"/>
</cellGeo>
<numDims Sync="TRUE">2</numDims>
<tranParaAv Sync="TRUE">1</tranParaAv>
<chkPtAv Sync="TRUE">0</chkPtAv>
<cornerPts>
<pos Sync="TRUE">2546000.000000 1141000.000000</pos>
</cornerPts>
<cornerPts>
<pos Sync="TRUE">2546000.000000 1208000.000000</pos>
</cornerPts>
<cornerPts>
<pos Sync="TRUE">2596000.000000 1208000.000000</pos>
</cornerPts>
<cornerPts>
<pos Sync="TRUE">2596000.000000 1141000.000000</pos>
</cornerPts>
<centerPt>
<pos Sync="TRUE">2571000.000000 1174500.000000</pos>
</centerPt>
<axisDimension type="002">
<dimSize Sync="TRUE">100000</dimSize>
<dimResol>
<value Sync="TRUE">0.500000</value>
</dimResol>
</axisDimension>
<axisDimension type="001">
<dimSize Sync="TRUE">134000</dimSize>
<dimResol>
<value Sync="TRUE">0.500000</value>
</dimResol>
</axisDimension>
<ptInPixel>
<PixOrientCd Sync="TRUE" value="001"/>
</ptInPixel>
</Georect>
</spatRepInfo>
<contInfo>
<ImgDesc>
<contentTyp>
<ContentTypCd Sync="TRUE" value="001"/>
</contentTyp>
<covDim>
<Band>
<dimDescrp Sync="TRUE">Band_1</dimDescrp>
<bitsPerVal Sync="TRUE">32</bitsPerVal>
</Band>
</covDim>
</ImgDesc>
</contInfo>
<mdDateSt Sync="TRUE">20200707</mdDateSt>
</metadata>
