View In:
ArcGIS JavaScript
ArcGIS Online Map Viewer
ArcGIS Earth
ArcGIS Pro
Service Description: La carte de l'ECAB (2024) représente les zones potentiellement touchées par des événements de ruissellement rares à très rares, dont le temps de retour est supérieur à 100 ans (soit un événement par siècle en moyenne). Elle fournit trois informations principales : la hauteur d'eau, la direction et la vitesse des écoulements. Ces données doivent être interprétées avec prudence, car elles résultent d'une modélisation sans vérification sur le terrain. Bien que les passages souterrains et les ponts de grande ampleur aient été pris en compte, les ouvrages de protection n'ont pas été inclus dans l'analyse. Il est important de noter que cette carte n'a pas de force obligatoire en droit. Son utilisation doit être circonspecte aux échelles plus détaillées que 1:12'500 en raison du risque d'erreur d'interprétation.
-
Recommandations de l’AECA -
Lien vers geocat.ch
Accès aux données :
Map Name: Direction_ecoulement_alea_ruissellement
Legend
All Layers and Tables
Dynamic Legend
Dynamic All Layers
Layers:
Description: La carte de l'ECAB (2024) représente les zones potentiellement touchées par des événements de ruissellement rares à très rares, dont le temps de retour est supérieur à 100 ans (soit un événement par siècle en moyenne). Elle fournit trois informations principales : la hauteur d'eau, la direction et la vitesse des écoulements. Ces données doivent être interprétées avec prudence, car elles résultent d'une modélisation sans vérification sur le terrain. Bien que les passages souterrains et les ponts de grande ampleur aient été pris en compte, les ouvrages de protection n'ont pas été inclus dans l'analyse. Il est important de noter que cette carte n'a pas de force obligatoire en droit. Son utilisation doit être circonspecte aux échelles plus détaillées que 1:12'500 en raison du risque d'erreur d'interprétation. - Recommandations de l’AECA - Lien vers geocat.chAccès aux données : Géoservices ArcGIS REST : MapserviceGéoservices OGC : WMSVisualisation des données sur maps.fr.ch
Service Item Id: a040ac54a36747eebd49314a894592cc
Copyright Text: DESCRIPTION_Direction_ecoulement_area_ruissellement
Spatial Reference:
2056
(2056)
Single Fused Map Cache: true
Tile Info:
- Height: 256
- Width: 256
- DPI: 96
-
Levels of Detail: 32
-
Level ID: 0
[ Start Tile, End Tile ]
- Resolution: 4000.0000000000005
- Scale: 1.5118110236220473E7
-
Level ID: 2
[ Start Tile, End Tile ]
- Resolution: 3500.0000000000005
- Scale: 1.3228346456692915E7
-
Level ID: 5
[ Start Tile, End Tile ]
- Resolution: 2750.0000000000005
- Scale: 1.0393700787401576E7
-
Level ID: 7
[ Start Tile, End Tile ]
- Resolution: 2250.0000000000005
- Scale: 8503937.007874016
-
Level ID: 8
[ Start Tile, End Tile ]
- Resolution: 2000.0000000000002
- Scale: 7559055.118110237
-
Level ID: 9
[ Start Tile, End Tile ]
- Resolution: 1750.0000000000002
- Scale: 6614173.228346458
-
Level ID: 12
[ Start Tile, End Tile ]
- Resolution: 1000.0000000000001
- Scale: 3779527.5590551184
-
Level ID: 14
[ Start Tile, End Tile ]
- Resolution: 650.0000000000001
- Scale: 2456692.913385827
-
Level ID: 15
[ Start Tile, End Tile ]
- Resolution: 500.00000000000006
- Scale: 1889763.7795275592
-
Level ID: 16
[ Start Tile, End Tile ]
- Resolution: 250.00000000000003
- Scale: 944881.8897637796
-
Level ID: 19
[ Start Tile, End Tile ]
- Resolution: 20.000000000000004
- Scale: 75590.55118110236
-
Level ID: 20
[ Start Tile, End Tile ]
- Resolution: 10.000000000000002
- Scale: 37795.27559055118
-
Level ID: 21
[ Start Tile, End Tile ]
- Resolution: 5.000000000000001
- Scale: 18897.63779527559
-
Level ID: 22
[ Start Tile, End Tile ]
- Resolution: 2.5000000000000004
- Scale: 9448.818897637795
-
Level ID: 24
[ Start Tile, End Tile ]
- Resolution: 1.5000000000000002
- Scale: 5669.291338582678
- Format: PNG
- Compression Quality: 0.0
- Origin: X: 2420000.0
Y: 1350000.0
- Spatial Reference: 2056
(2056)
Storage Info:
- Storage Format: esriMapCacheStorageModeCompactV2
- Packet Size: 128
Initial Extent:
XMin: 2574272.2529182835
YMin: 1183323.0341494614
XMax: 2578121.5758148218
YMax: 1186457.6766492277
Spatial Reference: 2056
(2056)
Full Extent:
XMin: 2547289.5
YMin: 1143075.5
XMax: 2595466.5
YMax: 1206187.5
Spatial Reference: 2056
(2056)
Units: esriMeters
Supported Image Format Types: PNG32,PNG24,PNG,JPG,DIB,TIFF,EMF,PS,PDF,GIF,SVG,SVGZ,BMP
Document Info:
Title: OFEV Aléa ruissellement 2024
Author:
Comments:
Subject:
Category:
Keywords: dangers_naturels,OGD,Raster
AntialiasingMode: Fast
TextAntialiasingMode: Force
Supports Dynamic Layers: true
MaxRecordCount: 2000
MaxImageHeight: 4096
MaxImageWidth: 4096
Supported Query Formats: JSON, geoJSON, PBF
Supports Query Data Elements: true
Min Scale: 1889763.7795275592
Max Scale: 377.9527559055118
Supports Datum Transformation: true
Child Resources:
Info
Dynamic Layer
Supported Operations:
Export Map
Identify
QueryLegends
QueryDomains
Find
Return Updates